BEGIN:VCALENDAR
VERSION:2.0
PRODID:-//eventon.com NONSGML v1.0//EN
CALSCALE:GREGORIAN
METHOD:PUBLISH
BEGIN:VEVENT
UID:69e75a7608146
DTSTAMP:20260421T130734
DTSTART:20260718T090000Z
DTEND:20260718T110000Z
TZID:UTC
LOCATION:
SUMMARY:Excursiones por los límites de Eugi
DESCRIPTION:Excursiones por los límites de Eugi pasando por las mugas localizadas\,  organizadas por Angel Mari Zamarreño. Sábado 18 julio: Olaberri hasta el collado de Gurutxaga Inicio: 09:00 h. Aparcamiento Hostal Quinto Real. Inscripciones en oficinas Concejo de Eugi una semana antes de cada fecha para organización de coches: 948304047/concejodeeugi@gmail.com Eugiko[..]\nhttps://agendadestinoesteribar.com/events/excursiones-por-los-limites-de-eugi-4/
URL:https://agendadestinoesteribar.com/events/excursiones-por-los-limites-de-eugi-4/
END:VEVENT
END:VCALENDAR