BEGIN:VCALENDAR
VERSION:2.0
PRODID:-//eventon.com NONSGML v1.0//EN
CALSCALE:GREGORIAN
METHOD:PUBLISH
BEGIN:VEVENT
UID:69e75c82027d7
DTSTAMP:20260421T131618
DTSTART:20260620T090000Z
DTEND:20260620T110000Z
TZID:UTC
LOCATION:
SUMMARY:Excursiones por los límites de Eugi
DESCRIPTION:Excursiones por los límites de Eugi pasando por las mugas localizadas\,  organizadas por Angel Mari Zamarreño. Sábado 20 junio: Collado de Artesiaga hasta Olaberri Sábado 18 julio: Olaberri hasta el collado de Gurutxaga Inicio: 09:00 h. Aparcamiento Hostal Quinto Real. Inscripciones en oficinas Concejo de Eugi una semana antes de[..]\nhttps://agendadestinoesteribar.com/events/excursiones-por-los-limites-de-eugi-3/
URL:https://agendadestinoesteribar.com/events/excursiones-por-los-limites-de-eugi-3/
END:VEVENT
END:VCALENDAR