BEGIN:VCALENDAR
VERSION:2.0
PRODID:-//eventon.com NONSGML v1.0//EN
CALSCALE:GREGORIAN
METHOD:PUBLISH
BEGIN:VEVENT
UID:69e75c0a97f99
DTSTAMP:20260421T131418
DTSTART:20260425T090000Z
DTEND:20260425T110000Z
TZID:UTC
LOCATION:
SUMMARY:Excursiones por los límites de Eugi
DESCRIPTION:Excursiones por los límites de Eugi pasando por las mugas localizadas\,  organizadas por Angel Mari Zamarreño. Sábado 25 abril: Salida de Gurutxaga hasta la regata de Iragi Sábado 23 mayo: Regata de Iragi hasta collado de Artesiaga Sábado 20 junio: Collado de Artesiaga hasta Olaberri Sábado 18 julio: Olaberri hasta[..]\nhttps://agendadestinoesteribar.com/events/excursiones-por-los-limites-de-eugi/
URL:https://agendadestinoesteribar.com/events/excursiones-por-los-limites-de-eugi/
END:VEVENT
END:VCALENDAR